BEGIN:VCALENDAR
VERSION:2.0
PRODID:-//wp-events-plugin.com//5.99912//EN
TZID:Europe/Berlin
X-WR-TIMEZONE:Europe/Berlin
BEGIN:VEVENT
UID:0-813@heubergbaar-gau.albverein.eu
DTSTART;TZID=Europe/Berlin;VALUE=DATE:20260614
DTEND;TZID=Europe/Berlin;VALUE=DATE:20260615
DTSTAMP:20260328T184650Z
URL:https://heubergbaar-gau.albverein.eu/events/hauptversammlung-mit-rahme
 nprogramm/
SUMMARY:Hauptversammlung mit Rahmenprogramm
DESCRIPTION:\n\nDie jährliche Mitgliederversammlung findet dieses Jahr mit
  Rahmenprogramm in Sigmaringendorf statt.\n\n\nHerzliche Einladung dazu!\n
 \n\n\n\n\nHauptversammlung um 10:00 Uhr in der Donau-Lauchert-Halle\nTages
 ordnung:\n\nTOP 1 – Eröffnung und Begrüßung durch das Präsidium\nTOP
  2 – Grußworte\nTOP 3 – Festrede durch eine Vertretung der Landesregi
 erung\nTOP 4 – Bericht des Präsidiums\nTOP 5 – Bericht des Hauptjugen
 dwartes\nTOP 6 – Jahresrechnung 2025 mit Bericht der Rechnungsprüferinn
 en\nTOP 7 – Vorstellung Haushaltsplan 2026\nTOP 8 – Ehrungen\nTOP 9 
 – Einladung zur Hauptversammlung 2027\nTOP 10 – Schlusswort\nTOP 11 
 – Albvereinslied „So steckt dies Zeichen an den Hut“\n\n\n\n\nRahmen
 programm\nin der Donau-Lauchert-Halle\nSamstag\, 13. Juni 2026\n17 Uhr Wor
 kshop Fit fürs Danzfeschd: Danza lerne ond üba\n19:30 Uhr Danzfeschd: Da
 nza\, gugga\, schwäza\, essa ond trenka\n\nSonntag\, 14. Juni 2026\nNach 
 der Hauptversammlung gibt es vor der Halle Stände mit Essen und Trinken u
 nd Musik. Im Foyer der Festhalle gibt es Kaffee und Kuchen. Das „Lädle
 “ ist mit einem Stand vor Ort.\n\n14:00 Uhr Schulwanderwettbewerb in der
  Halle mit Schirmherrin Gerlinde Kretschmann\n\n13:30 Uhr Foyer\n„Kurz g
 efragt\, weit gedacht – Engagement\, das verbindet“\nBei unserer Veran
 staltung „Kurz gefragt\, weit gedacht“ nehmen wir Sie mit auf eine spa
 nnende Reise durch unseren Verein. In kurzen Interviews sprechen wir mit M
 itgliedern\, Ehrenamtlichen und Verantwortlichen über aktuelle Themen run
 d um den Verein\, das Engagement für Natur und Heimat sowie Aktivitäten 
 für Jung und Alt.\nErfahren Sie aus erster Hand\, welche Ideen\, Projekte
  und Geschichten unseren Verein lebendig machen\, welche Wege wir gemeinsa
 m gehen und wie Menschen durch ehrenamtliches Engagement verbunden werden.
  Ob neugierig auf neue Initiativen\, Inspiration für eigenes Engagement o
 der einfach die Gesichter hinter dem Verein kennenlernen – hier bekommen
  Sie kurze\, informative und persönliche Einblicke.\n\n\n\nGeführte Wand
 erungen und Radtouren\n„Treffpunkt Festplatz“ vor der Donau-Lauchert H
 alle\nSonntag\, 14. Juni 2026\, 9:30 Uhr\n\n 	geführte Tour\, 12 km\, 2\,
 5 h an die Zielfinger Baggerseen\n 	geführte historische Tour um Sigmarin
 gendorf\, 9 km\, 3 h\n 	Spaziergang zu einer Blumenwiese anlässlich des T
 ags der Artenvielfalt\n 	Radtour\, 35 km\, Ablach-Donautal\n 	Sternradtour
  (Infos folgen)\n\n&nbsp\;\n\n&nbsp\;\n\n\nUhrzeit:\n09:30 – 15:30Ort/Au
 sgangspunkt:\nDonau Lauchert Halle\nLaucertbühl 9\nSigmaringendorf\n\n\n\
 n\n\n\nSo.\, 14.06.2026\n\n\nDie jährliche Mitgliederversammlung findet d
 ieses Jahr mit Rahmenprogramm in Sigmaringendorf statt.\nHerzliche Einladu
 ng dazu!\n\n\n\n\n\nHauptversammlung um 10:00 Uhr in der Donau-Lauchert-Ha
 lle\nTagesordnung:\n\nTOP 1 – Eröffnung und Begrüßung durch das Präs
 idium\nTOP 2 – Grußworte\nTOP 3 – Festrede durch eine Vertretung der 
 Landesregierung\nTOP 4 – Bericht des Präsidiums\nTOP 5 – Bericht des 
 Hauptjugendwartes\nTOP 6 – Jahresrechnung 2025 mit Bericht der Rechnungs
 prüferinnen\nTOP 7 – Vorstellung Haushaltsplan 2026\nTOP 8 – Ehrungen
 \nTOP 9 – Einladung zur Hauptversammlung 2027\nTOP 10 – Schlusswort\nT
 OP 11 – Albvereinslied „So steckt dies Zeichen an den Hut“\n\n\n\n\n
 Rahmenprogramm\nin der Donau-Lauchert-Halle\nSamstag\, 13. Juni 2026\n17 U
 hr Workshop Fit fürs Danzfeschd: Danza lerne ond üba\n19:30 Uhr Danzfesc
 hd: Danza\, gugga\, schwäza\, essa ond trenka\n\nSonntag\, 14. Juni 2026\
 nNach der Hauptversammlung gibt es vor der Halle Stände mit Essen und Tri
 nken und Musik. Im Foyer der Festhalle gibt es Kaffee und Kuchen. Das „L
 ädle“ ist mit einem Stand vor Ort.\n\n14:00 Uhr Schulwanderwettbewerb i
 n der Halle mit Schirmherrin Gerlinde Kretschmann\n\n13:30 Uhr Foyer\n„K
 urz gefragt\, weit gedacht – Engagement\, das verbindet“\nBei unserer 
 Veranstaltung „Kurz gefragt\, weit gedacht“ nehmen wir Sie mit auf ein
 e spannende Reise durch unseren Verein. In kurzen Interviews sprechen wir 
 mit Mitgliedern\, Ehrenamtlichen und Verantwortlichen über aktuelle Theme
 n rund um den Verein\, das Engagement für Natur und Heimat sowie Aktivit
 äten für Jung und Alt.\nErfahren Sie aus erster Hand\, welche Ideen\, Pr
 ojekte und Geschichten unseren Verein lebendig machen\, welche Wege wir ge
 meinsam gehen und wie Menschen durch ehrenamtliches Engagement verbunden w
 erden. Ob neugierig auf neue Initiativen\, Inspiration für eigenes Engage
 ment oder einfach die Gesichter hinter dem Verein kennenlernen – hier be
 kommen Sie kurze\, informative und persönliche Einblicke.\n\n\n\nGeführt
 e Wanderungen und Radtouren\n„Treffpunkt Festplatz“ vor der Donau-Lauc
 hert Halle\nSonntag\, 14. Juni 2026\, 9:30 Uhr\n\n 	geführte Tour\, 12 km
 \, 2\,5 h an die Zielfinger Baggerseen\n 	geführte historische Tour um Si
 gmaringendorf\, 9 km\, 3 h\n 	Spaziergang zu einer Blumenwiese anlässlich
  des Tags der Artenvielfalt\n 	Radtour\, 35 km\, Ablach-Donautal\n 	Sternr
 adtour (Infos folgen)\n\n&nbsp\;\n\n&nbsp\;\n\n\nUhrzeit:\n09:30 – 15:30
 Ort/Ausgangspunkt:\nDonau Lauchert Halle\nLaucertbühl 9\nSigmaringendorf\
 n\n\n\n
CATEGORIES:Heuberg-Baar-Gau
END:VEVENT
BEGIN:VTIMEZONE
TZID:Europe/Berlin
X-LIC-LOCATION:Europe/Berlin
BEGIN:DAYLIGHT
DTSTART:20260329T030000
TZOFFSETFROM:+0100
TZOFFSETTO:+0200
TZNAME:CEST
END:DAYLIGHT
END:VTIMEZONE
END:VCALENDAR